BEGIN:VCALENDAR
VERSION:2.0
PRODID:-//MUJHU Research Collaboration - ECPv5.12.3//NONSGML v1.0//EN
CALSCALE:GREGORIAN
METHOD:PUBLISH
X-WR-CALNAME:MUJHU Research Collaboration
X-ORIGINAL-URL:https://www.mujhu.org
X-WR-CALDESC:Events for MUJHU Research Collaboration
REFRESH-INTERVAL;VALUE=DURATION:PT1H
X-Robots-Tag:noindex
X-PUBLISHED-TTL:PT1H
BEGIN:VTIMEZONE
TZID:UTC
BEGIN:STANDARD
TZOFFSETFROM:+0000
TZOFFSETTO:+0000
TZNAME:UTC
DTSTART:20240101T000000
END:STANDARD
END:VTIMEZONE
BEGIN:VEVENT
DTSTART;TZID=UTC:20240529T070000
DTEND;TZID=UTC:20240529T090000
DTSTAMP:20260423T230030
CREATED:20240522T074541Z
LAST-MODIFIED:20240522T074541Z
UID:10663-1716966000-1716973200@www.mujhu.org
SUMMARY:HIP-CY Study Stakeholder Breakfast Meeting
DESCRIPTION:
URL:https://www.mujhu.org/event/hip-cy-study-stakeholder-breakfast-meeting/
LOCATION:MUJHU Research Collaboration\, Mulago\, Kampala\, Uganda
ORGANIZER;CN="MU-JHU%20Care%20Ltd%20%7C%20MU-JHU%20Research%20Collaboration":MAILTO:rnabbosa@mujhu.org
END:VEVENT
END:VCALENDAR